BEGIN:VCALENDAR
VERSION:2.0
PRODID:-//West Blvd NC - ECPv6.15.13.1//NONSGML v1.0//EN
CALSCALE:GREGORIAN
METHOD:PUBLISH
X-WR-CALNAME:West Blvd NC
X-ORIGINAL-URL:https://westblvdnc.org
X-WR-CALDESC:Events for West Blvd NC
REFRESH-INTERVAL;VALUE=DURATION:PT1H
X-Robots-Tag:noindex
X-PUBLISHED-TTL:PT1H
BEGIN:VTIMEZONE
TZID:America/New_York
BEGIN:DAYLIGHT
TZOFFSETFROM:-0500
TZOFFSETTO:-0400
TZNAME:EDT
DTSTART:20210314T070000
END:DAYLIGHT
BEGIN:STANDARD
TZOFFSETFROM:-0400
TZOFFSETTO:-0500
TZNAME:EST
DTSTART:20211107T060000
END:STANDARD
BEGIN:DAYLIGHT
TZOFFSETFROM:-0500
TZOFFSETTO:-0400
TZNAME:EDT
DTSTART:20220313T070000
END:DAYLIGHT
BEGIN:STANDARD
TZOFFSETFROM:-0400
TZOFFSETTO:-0500
TZNAME:EST
DTSTART:20221106T060000
END:STANDARD
BEGIN:DAYLIGHT
TZOFFSETFROM:-0500
TZOFFSETTO:-0400
TZNAME:EDT
DTSTART:20230312T070000
END:DAYLIGHT
BEGIN:STANDARD
TZOFFSETFROM:-0400
TZOFFSETTO:-0500
TZNAME:EST
DTSTART:20231105T060000
END:STANDARD
BEGIN:DAYLIGHT
TZOFFSETFROM:-0500
TZOFFSETTO:-0400
TZNAME:EDT
DTSTART:20240310T070000
END:DAYLIGHT
BEGIN:STANDARD
TZOFFSETFROM:-0400
TZOFFSETTO:-0500
TZNAME:EST
DTSTART:20241103T060000
END:STANDARD
BEGIN:DAYLIGHT
TZOFFSETFROM:-0500
TZOFFSETTO:-0400
TZNAME:EDT
DTSTART:20250309T070000
END:DAYLIGHT
BEGIN:STANDARD
TZOFFSETFROM:-0400
TZOFFSETTO:-0500
TZNAME:EST
DTSTART:20251102T060000
END:STANDARD
END:VTIMEZONE
BEGIN:VEVENT
DTSTART;TZID=America/New_York:20240507T180000
DTEND;TZID=America/New_York:20240507T193000
DTSTAMP:20260421T042723
CREATED:20240405T172349Z
LAST-MODIFIED:20240405T172349Z
UID:1359-1715104800-1715110200@westblvdnc.org
SUMMARY:Corridor Wide Meeting
DESCRIPTION:
URL:https://westblvdnc.org/event/corridor-wide-meeting/
CATEGORIES:Community Meeting
END:VEVENT
BEGIN:VEVENT
DTSTART;TZID=America/New_York:20240420T120000
DTEND;TZID=America/New_York:20240420T140000
DTSTAMP:20260421T042723
CREATED:20240405T173747Z
LAST-MODIFIED:20240405T173747Z
UID:1372-1713614400-1713621600@westblvdnc.org
SUMMARY:Spring Labor of Love
DESCRIPTION:The Muggsy Bogues Family Foundation is excited to announce their first Labor of Love food distribution event of 2024. Their Labor of Love events help people who live in identified food deserts and other under-served neighbors in Charlotte by delivering much-needed healthy food options. The foundation works with community partners to provide food boxes\, water\, and grocery gift cards to at-risk families. \nREGISTER HERE
URL:https://westblvdnc.org/event/spring-labor-of-love/
CATEGORIES:Community Event
END:VEVENT
BEGIN:VEVENT
DTSTART;TZID=America/New_York:20240416T180000
DTEND;TZID=America/New_York:20240416T193000
DTSTAMP:20260421T042723
CREATED:20240405T171922Z
LAST-MODIFIED:20240405T171922Z
UID:1352-1713290400-1713295800@westblvdnc.org
SUMMARY:WBNC Board Meeting
DESCRIPTION:
URL:https://westblvdnc.org/event/wbnc-board-meeting/
CATEGORIES:WBNC Board Meeting
END:VEVENT
BEGIN:VEVENT
DTSTART;VALUE=DATE:20240415
DTEND;VALUE=DATE:20240420
DTSTAMP:20260421T042723
CREATED:20240405T171751Z
LAST-MODIFIED:20240405T171751Z
UID:1350-1713139200-1713571199@westblvdnc.org
SUMMARY:National Volunteer Week
DESCRIPTION:
URL:https://westblvdnc.org/event/national-volunteer-week/
END:VEVENT
BEGIN:VEVENT
DTSTART;TZID=America/New_York:20220624T110000
DTEND;TZID=America/New_York:20220624T130000
DTSTAMP:20260421T042723
CREATED:20220602T184302Z
LAST-MODIFIED:20220602T184311Z
UID:924-1656068400-1656075600@westblvdnc.org
SUMMARY:West Boulevard Merchants' Association Launch Brunch
DESCRIPTION:Are you a small business owner in the West Boulevard corridor? Join us for the launch of the West Boulevard Merchants’ Association! Our Merchants’ Association is an opportunity to highlight and support the small businesses in the West Boulevard corridor. Join us at the Launch Brunch and learn more about what a Merchants’ Association is\, why you need to be a part\, and help us to build out a Merchants’ Association that meets your business needs.
URL:https://westblvdnc.org/event/west-boulevard-merchants-association-launch-brunch/
LOCATION:Progressive Baptist Church\, 1600 Clanton Rd\, Charlotte\, NC\, 28208\, United States
END:VEVENT
END:VCALENDAR